BEGIN:VCALENDAR
METHOD:PUBLISH
PRODID:-//Weblication CMS
VERSION:2.0
BEGIN:VEVENT
SUMMARY:1. Holzstellen 2025
DTSTART:20250315T130000
DTEND:20250315T180000
DESCRIPTION:13Uhr Treffpunkt: Kölner Tor
LOCATION:In der Poorte
UID:https://www.koelner-poorte.de/kp2020/veranstaltungen/termine/1-holzstellen-2025.php
URL:https://www.koelner-poorte.de/kp2020/veranstaltungen/termine/1-holzstellen-2025.php
END:VEVENT
END:VCALENDAR