BEGIN:VCALENDAR
METHOD:PUBLISH
PRODID:-//Weblication CMS
VERSION:2.0
BEGIN:VEVENT
SUMMARY:3. Holzstellen 2025
DTSTART:20250329T130000
DTEND:20250329T180000
DESCRIPTION:13Uhr  Treffpunkt: Kölner Tor
LOCATION:In der Poorte
UID:https://www.koelner-poorte.de/kp2020/veranstaltungen/termine/3-holzstellen.php
URL:https://www.koelner-poorte.de/kp2020/veranstaltungen/termine/3-holzstellen.php
END:VEVENT
END:VCALENDAR