BEGIN:VCALENDAR
METHOD:PUBLISH
PRODID:-//Weblication CMS
VERSION:2.0
BEGIN:VEVENT
SUMMARY:5. Holzstellen 2025 / Kopp aufräumen
DTSTART:20250412T130000
DTEND:20250412T180000
DESCRIPTION:
LOCATION:In der Poorte
UID:https://www.koelner-poorte.de/kp2020/veranstaltungen/termine/5-holzstellen-kopp-aufraeumen.php
URL:https://www.koelner-poorte.de/kp2020/veranstaltungen/termine/5-holzstellen-kopp-aufraeumen.php
END:VEVENT
END:VCALENDAR