BEGIN:VCALENDAR
METHOD:PUBLISH
PRODID:-//Weblication CMS
VERSION:2.0
BEGIN:VEVENT
SUMMARY:Gesamtverein Jahreshauptversammlung 2025
DTSTART:20250328T193000
DTEND:20250328T230000
DESCRIPTION:Jahreshauptversammlung des Gesamtverein Osterfeuer Attendorn im Himmelreich
LOCATION:In der Stadt
UID:https://www.koelner-poorte.de/kp2020/veranstaltungen/termine/gesamtverein-jahreshauptversammlung-2025.php
URL:https://www.koelner-poorte.de/kp2020/veranstaltungen/termine/gesamtverein-jahreshauptversammlung-2025.php
END:VEVENT
END:VCALENDAR