BEGIN:VCALENDAR
METHOD:PUBLISH
PRODID:-//Weblication CMS
VERSION:2.0
BEGIN:VEVENT
SUMMARY:Herbst Arbeitseinsatz 2025
DTSTART:20251115T130000
DTEND:20251115T235959
DESCRIPTION:
LOCATION:Auf&#039;m Kopp
UID:https://www.koelner-poorte.de/kp2020/veranstaltungen/termine/herbst-arbeitseinsatz-2025.php
URL:https://www.koelner-poorte.de/kp2020/veranstaltungen/termine/herbst-arbeitseinsatz-2025.php
END:VEVENT
END:VCALENDAR