BEGIN:VCALENDAR
METHOD:PUBLISH
PRODID:-//Weblication CMS
VERSION:2.0
BEGIN:VEVENT
SUMMARY:Herbstfest 2025
DTSTART:20250913T160000
DTEND:20250913T235959
DESCRIPTION:
LOCATION:Auf&#039;m Kopp
UID:https://www.koelner-poorte.de/kp2020/veranstaltungen/termine/herbstfest-2025.php
URL:https://www.koelner-poorte.de/kp2020/veranstaltungen/termine/herbstfest-2025.php
END:VEVENT
END:VCALENDAR