BEGIN:VCALENDAR
METHOD:PUBLISH
PRODID:-//Weblication CMS
VERSION:2.0
BEGIN:VEVENT
SUMMARY:Jahreshauptversammlung 2025
DTSTART:20250314T190000
DTEND:20250314T230000
DESCRIPTION:19Uhr Treffpunkt: Kotani Bar Attendorn
LOCATION:In der Stadt
UID:https://www.koelner-poorte.de/kp2020/veranstaltungen/termine/jahreshauptversammlung-2025-jhv.php
URL:https://www.koelner-poorte.de/kp2020/veranstaltungen/termine/jahreshauptversammlung-2025-jhv.php
END:VEVENT
END:VCALENDAR