BEGIN:VCALENDAR
METHOD:PUBLISH
PRODID:-//Weblication CMS
VERSION:2.0
BEGIN:VEVENT
SUMMARY:Karfreitag 2025
DTSTART:20250418T000000
DTEND:20250418T235959
DESCRIPTION:
LOCATION:
UID:https://www.koelner-poorte.de/kp2020/veranstaltungen/termine/karfreitag-2025.php
URL:https://www.koelner-poorte.de/kp2020/veranstaltungen/termine/karfreitag-2025.php
END:VEVENT
END:VCALENDAR