BEGIN:VCALENDAR
METHOD:PUBLISH
PRODID:-//Weblication CMS
VERSION:2.0
BEGIN:VEVENT
SUMMARY:Nikolausfeier 2025
DTSTART:20251129T160000
DTEND:20251129T235959
DESCRIPTION:Nikolausfeier auf'm Kopp! Kinder bitte per EMail anmelden!
LOCATION:Auf&#039;m Kopp
UID:https://www.koelner-poorte.de/kp2020/veranstaltungen/termine/nikolausfeier-2025.php
URL:https://www.koelner-poorte.de/kp2020/veranstaltungen/termine/nikolausfeier-2025.php
END:VEVENT
END:VCALENDAR