BEGIN:VCALENDAR
METHOD:PUBLISH
PRODID:-//Weblication CMS
VERSION:2.0
BEGIN:VEVENT
SUMMARY:Ostersonntag 2025
DTSTART:20250420T000000
DTEND:20250420T235959
DESCRIPTION:
LOCATION:
UID:https://www.koelner-poorte.de/kp2020/veranstaltungen/termine/ostersonntag-2025.php
URL:https://www.koelner-poorte.de/kp2020/veranstaltungen/termine/ostersonntag-2025.php
END:VEVENT
END:VCALENDAR